BEGIN:VCALENDAR
VERSION:2.0
PRODID:-//Tai Initiative - ECPv5.2.1//NONSGML v1.0//EN
CALSCALE:GREGORIAN
METHOD:PUBLISH
X-WR-CALNAME:Tai Initiative
X-ORIGINAL-URL:http://taiinitiative.org
X-WR-CALDESC:Events for Tai Initiative
BEGIN:VTIMEZONE
TZID:America/Los_Angeles
BEGIN:DAYLIGHT
TZOFFSETFROM:-0800
TZOFFSETTO:-0700
TZNAME:PDT
DTSTART:20150308T100000
END:DAYLIGHT
BEGIN:STANDARD
TZOFFSETFROM:-0700
TZOFFSETTO:-0800
TZNAME:PST
DTSTART:20151101T090000
END:STANDARD
END:VTIMEZONE
BEGIN:VEVENT
DTSTART;TZID=America/Los_Angeles:20150206T110000
DTEND;TZID=America/Los_Angeles:20150206T111500
DTSTAMP:20260419T164730
CREATED:20140630T033645Z
LAST-MODIFIED:20150207T174409Z
UID:1482-1423220400-1423221300@taiinitiative.org
SUMMARY:泰论坛 : Civil Dialogue on Civilization
DESCRIPTION:泰论坛 : Civil Dialogue on Civilization\n\nAn online interactive discussion forum hosted by The Tai Initiative \n“Getting to Know a New Ancient China” \nJoin Chad Auer\, former mayor of Firestone\, Colorado\, and Tai Initiative Executive Director Carson Tavenner for an online interaction as they exchange their journey stories and examine the meaning of having journeyed into a knowledge of China. \n“Inbound & Outbound Citizen Diplomacy” \nWatch Diane Rasmussen\, Director of the Center for Citizen Diplomacy\, and Tai Initiative Executive Director Carson Tavenner in an online exchange about the importance of both reaching out and inviting in when practicing your citizen diplomatic skills. \n  \nEmail us at admin@taiinitiative.org  Or Tweet to us at https://twitter.com/TaiInitiative \n\nan idea to shape future dialogue
URL:http://taiinitiative.org/event/tailuntan150206/
LOCATION:Google Hangout
CATEGORIES:泰论坛 Discussion Forum
END:VEVENT
END:VCALENDAR