BEGIN:VCALENDAR
VERSION:2.0
PRODID:-//Tai Initiative - ECPv5.2.1//NONSGML v1.0//EN
CALSCALE:GREGORIAN
METHOD:PUBLISH
X-WR-CALNAME:Tai Initiative
X-ORIGINAL-URL:http://taiinitiative.org
X-WR-CALDESC:Events for Tai Initiative
BEGIN:VTIMEZONE
TZID:America/Los_Angeles
BEGIN:DAYLIGHT
TZOFFSETFROM:-0800
TZOFFSETTO:-0700
TZNAME:PDT
DTSTART:20140309T100000
END:DAYLIGHT
BEGIN:STANDARD
TZOFFSETFROM:-0700
TZOFFSETTO:-0800
TZNAME:PST
DTSTART:20141102T090000
END:STANDARD
END:VTIMEZONE
BEGIN:VEVENT
DTSTART;TZID=America/Los_Angeles:20141112T140000
DTEND;TZID=America/Los_Angeles:20141112T180000
DTSTAMP:20260419T180119
CREATED:20141011T214959Z
LAST-MODIFIED:20141027T215647Z
UID:1939-1415800800-1415815200@taiinitiative.org
SUMMARY:Seattle Office Open House
DESCRIPTION:We’re waiting for you to visit us at our Seattle office! \nWe are excited to announce our new address in downtown Seattle\, Washington!  Bank of America Plaza (800 5th Ave)\, Suite 4114 \nPlan to come on Wednesday\, November 13 for some refreshments and networking. \nWe’ll have information on our new product line of leadership skills training seminars. \nWe look forward to seeing you on the 41st floor!
URL:http://taiinitiative.org/event/seattle-office-open-house/
ORGANIZER;CN="The%20Tai%20Initiative":MAILTO:carson@taiinitiative.org
END:VEVENT
END:VCALENDAR