BEGIN:VCALENDAR
VERSION:2.0
PRODID:-//Tai Initiative - ECPv5.2.1//NONSGML v1.0//EN
CALSCALE:GREGORIAN
METHOD:PUBLISH
X-WR-CALNAME:Tai Initiative
X-ORIGINAL-URL:http://taiinitiative.org
X-WR-CALDESC:Events for Tai Initiative
BEGIN:VTIMEZONE
TZID:America/Los_Angeles
BEGIN:DAYLIGHT
TZOFFSETFROM:-0800
TZOFFSETTO:-0700
TZNAME:PDT
DTSTART:20140309T100000
END:DAYLIGHT
BEGIN:STANDARD
TZOFFSETFROM:-0700
TZOFFSETTO:-0800
TZNAME:PST
DTSTART:20141102T090000
END:STANDARD
END:VTIMEZONE
BEGIN:VEVENT
DTSTART;TZID=America/Los_Angeles:20140129T173000
DTEND;TZID=America/Los_Angeles:20140129T183000
DTSTAMP:20260421T033245
CREATED:20131119T033943Z
LAST-MODIFIED:20131119T034547Z
UID:983-1391016600-1391020200@taiinitiative.org
SUMMARY:Seattle China Cabinet
DESCRIPTION:
URL:http://taiinitiative.org/event/seattle-china-cabinet-4/
LOCATION:Belltown Community Center\, 415 Bell St\, Seattle\, WA\, 98121\, United States
CATEGORIES:Outreach
ORGANIZER;CN="Carson%20Tavenner":MAILTO:carson@taiinitiative.org
END:VEVENT
END:VCALENDAR