BEGIN:VCALENDAR
VERSION:2.0
PRODID:-//Tai Initiative - ECPv5.2.1//NONSGML v1.0//EN
CALSCALE:GREGORIAN
METHOD:PUBLISH
X-WR-CALNAME:Tai Initiative
X-ORIGINAL-URL:http://taiinitiative.org
X-WR-CALDESC:Events for Tai Initiative
BEGIN:VTIMEZONE
TZID:America/Los_Angeles
BEGIN:DAYLIGHT
TZOFFSETFROM:-0800
TZOFFSETTO:-0700
TZNAME:PDT
DTSTART:20130310T100000
END:DAYLIGHT
BEGIN:STANDARD
TZOFFSETFROM:-0700
TZOFFSETTO:-0800
TZNAME:PST
DTSTART:20131103T090000
END:STANDARD
END:VTIMEZONE
BEGIN:VEVENT
DTSTART;TZID=America/Los_Angeles:20131028T153000
DTEND;TZID=America/Los_Angeles:20131028T173000
DTSTAMP:20260421T092202
CREATED:20131024T191502Z
LAST-MODIFIED:20131024T192003Z
UID:930-1382974200-1382981400@taiinitiative.org
SUMMARY:NCUSCR China Town Hall: Everett\, WA
DESCRIPTION:This year’s National Committee on US/China Relations’ Town Hall event in the Puget Sound region will be held in Everett at the Jackson Conference Center on the Everett Community College campus.  This event is free of charge\, co-hosted by The Tai Initiative and Everett Community College. \n  \n  \nWhen: Monday\, Oct 28 \n3:30 Arrival & greeting (late arrivals are fine) \n4:00 National webcast begins with Madeline Albright \n4:45 Local speaker program begins with Michael McCune\, consumer strategist with Global Advisory Services \nWhere: 2000 Tower St\, Everett\, WA 98201 \nFor more information\, see the NCUSCR event page \n  \nWe hope to see you there!
URL:http://taiinitiative.org/event/ncuscr-china-town-hall-everett-wa/
LOCATION:Jackson Center\, 2000 Tower St\, Everett\, WA\, 98201\, United States
CATEGORIES:Outreach
ORGANIZER;CN="National%20Commiittee%20on%20US%2FChina%20Relations":MAILTO:carson@taiinitiative.org
END:VEVENT
END:VCALENDAR