BEGIN:VCALENDAR
VERSION:2.0
PRODID:-//Tai Initiative - ECPv5.2.1//NONSGML v1.0//EN
CALSCALE:GREGORIAN
METHOD:PUBLISH
X-WR-CALNAME:Tai Initiative
X-ORIGINAL-URL:http://taiinitiative.org
X-WR-CALDESC:Events for Tai Initiative
BEGIN:VTIMEZONE
TZID:America/Los_Angeles
BEGIN:DAYLIGHT
TZOFFSETFROM:-0800
TZOFFSETTO:-0700
TZNAME:PDT
DTSTART:20130310T100000
END:DAYLIGHT
BEGIN:STANDARD
TZOFFSETFROM:-0700
TZOFFSETTO:-0800
TZNAME:PST
DTSTART:20131103T090000
END:STANDARD
END:VTIMEZONE
BEGIN:VEVENT
DTSTART;TZID=America/Los_Angeles:20130501T170000
DTEND;TZID=America/Los_Angeles:20130501T180000
DTSTAMP:20260421T094852
CREATED:20130501T120015Z
LAST-MODIFIED:20130430T041032Z
UID:809-1367427600-1367431200@taiinitiative.org
SUMMARY:Exploring US/China Relations at the Subnational Level: Denver
DESCRIPTION:A leader like you is always learning. The Tai Initiative wants to help you apply your skills to influencing US/China affairs! We bring American and Chinese leaders together who care deeply for the future of the relationship and want to influence it to succeed. The landscape at the subnational level is rapidly evolving; it is imperative the Front Range region evolve with these changes. \nPlease join us for a free short lecture and interactive discussion at the Eugene Field branch of the Denver library on May 1st\, 2013 from 5:00-6:00.   Carson Tavenner\, Executive Director of The Tai Initiative\, will give a community presentation on the US/China relationship and examine methods of encouraging cross-regional connections between leaders in the Puget Sound and Front Range regions. \nTake the next step toward identifying and defining the best practices this region has formulated among business\, education\, non-profit and government sectors. Leaders like you are critical to that process. By participating\, you will become more effective and informed in your international efforts.  No registration necessary! \n5:00 – 5:10 Greetings and Introduction\n5:10 – 5:30 Presentation: Exploring US/China Relations at the Subnational Level\n5:30 – 5:50 Q&A session and group interaction\n5:50 – 6:00 Wrap-up and departure \nTopics: \n\nExamining the US/China relationship\nImportant characteristics of the subnational level of US/China relations\nResults of the Pacific Northwest Regional Conference on US/China Subnational Relations\nOpportunities and ideas for Front Range regional engagement\n\n 
URL:http://taiinitiative.org/event/colorado-public-campaign/
LOCATION:Eugene Field branch’s meeting room\, 810 S. University Blvd.\, Denver\, CO\, 80209\, United States
CATEGORIES:Outreach
ORGANIZER;CN="The%20Tai%20Initiative":MAILTO:carson@taiinitiative.org
END:VEVENT
END:VCALENDAR