BEGIN:VCALENDAR
VERSION:2.0
PRODID:-//Tai Initiative - ECPv5.2.1//NONSGML v1.0//EN
CALSCALE:GREGORIAN
METHOD:PUBLISH
X-WR-CALNAME:Tai Initiative
X-ORIGINAL-URL:http://taiinitiative.org
X-WR-CALDESC:Events for Tai Initiative
BEGIN:VTIMEZONE
TZID:America/Los_Angeles
BEGIN:DAYLIGHT
TZOFFSETFROM:-0800
TZOFFSETTO:-0700
TZNAME:PDT
DTSTART:20150308T100000
END:DAYLIGHT
BEGIN:STANDARD
TZOFFSETFROM:-0700
TZOFFSETTO:-0800
TZNAME:PST
DTSTART:20151101T090000
END:STANDARD
END:VTIMEZONE
BEGIN:VEVENT
DTSTART;TZID=America/Los_Angeles:20150417T103000
DTEND;TZID=America/Los_Angeles:20150417T110000
DTSTAMP:20260419T100417
CREATED:20150403T173037Z
LAST-MODIFIED:20150420T143533Z
UID:2826-1429266600-1429268400@taiinitiative.org
SUMMARY:Changing the Conversation about China
DESCRIPTION:Join us to hear Dr. George Koo speak on why America needs to change the conversation about China. Dr. Koo will expand on his presentation “Time for a New Conversation about China” delivered at the Jackson School of International Studies of University of Washington. Dr. Koo speaks on topics such as China-US relations\, Chinese racial profiling in the United States\, businesses strategies for Asia\, and travel in Asia. \nThis event was broadcast on April 17\, 10:30 AM PST. Watch it right here:
URL:http://taiinitiative.org/event/changing-conversation-china/
CATEGORIES:泰论坛 Discussion Forum
END:VEVENT
END:VCALENDAR