BEGIN:VCALENDAR
VERSION:2.0
PRODID:-//Tai Initiative - ECPv5.2.1//NONSGML v1.0//EN
CALSCALE:GREGORIAN
METHOD:PUBLISH
X-WR-CALNAME:Tai Initiative
X-ORIGINAL-URL:http://taiinitiative.org
X-WR-CALDESC:Events for Tai Initiative
BEGIN:VTIMEZONE
TZID:America/Los_Angeles
BEGIN:DAYLIGHT
TZOFFSETFROM:-0800
TZOFFSETTO:-0700
TZNAME:PDT
DTSTART:20150308T100000
END:DAYLIGHT
BEGIN:STANDARD
TZOFFSETFROM:-0700
TZOFFSETTO:-0800
TZNAME:PST
DTSTART:20151101T090000
END:STANDARD
END:VTIMEZONE
BEGIN:VEVENT
DTSTART;TZID=America/Los_Angeles:20150313T120000
DTEND;TZID=America/Los_Angeles:20150313T122000
DTSTAMP:20260419T131411
CREATED:20150309T173507Z
LAST-MODIFIED:20150309T201832Z
UID:2396-1426248000-1426249200@taiinitiative.org
SUMMARY:Attracting Trade and Investment to the DC Area
DESCRIPTION:Join us for a discussion between Bill Black\, President of the Greater Washington Investment Center\, and Ralph Winnie\, Director of China Business Development at the Eurasia Center\, on their experiences promoting Chinese economic interest in the United States. \nThis event will be broadcast on March 13\, 12:00-12:20 PM PST. Watch it right here.
URL:http://taiinitiative.org/event/attracting-trade-investment-dc-area/
CATEGORIES:泰论坛 Discussion Forum
END:VEVENT
END:VCALENDAR