BEGIN:VCALENDAR
VERSION:2.0
PRODID:-//Tai Initiative - ECPv5.2.1//NONSGML v1.0//EN
CALSCALE:GREGORIAN
METHOD:PUBLISH
X-WR-CALNAME:Tai Initiative
X-ORIGINAL-URL:http://taiinitiative.org
X-WR-CALDESC:Events for Tai Initiative
BEGIN:VTIMEZONE
TZID:America/Los_Angeles
BEGIN:DAYLIGHT
TZOFFSETFROM:-0800
TZOFFSETTO:-0700
TZNAME:PDT
DTSTART:20150308T100000
END:DAYLIGHT
BEGIN:STANDARD
TZOFFSETFROM:-0700
TZOFFSETTO:-0800
TZNAME:PST
DTSTART:20151101T090000
END:STANDARD
END:VTIMEZONE
BEGIN:VEVENT
DTSTART;TZID=America/Los_Angeles:20150701T190000
DTEND;TZID=America/Los_Angeles:20150701T192000
DTSTAMP:20260419T082254
CREATED:20150701T202208Z
LAST-MODIFIED:20150701T234442Z
UID:3644-1435777200-1435778400@taiinitiative.org
SUMMARY:A Moveable Feast: 3rd Annual Conference on the Road to Paris
DESCRIPTION:Join us for our discussion with Dr. Terry Cooke- Founding Director of the China Partnership of Greater Philadelphia. Terry comments on the significance of the global shift toward city empowerment in delivering practical solutions to enduring problems at a local level and shares his perspective putting our July 10 Washington\, D.C. discussion in the context of important events this year; from the Xi-Obama declaration on Climate Smart Low Carbon Cities in November 2014 to the U.N. Paris COP21 meeting in December 2015. \nAfter listening to these comments\, we believe you’ll be motivated to register for the July 10 event. \nThis event was broadcast on July 1\, 2015 4:00 PM PST.
URL:http://taiinitiative.org/event/a_moveable_feast/
END:VEVENT
END:VCALENDAR