BEGIN:VCALENDAR
VERSION:2.0
PRODID:-//Tai Initiative - ECPv5.2.1//NONSGML v1.0//EN
CALSCALE:GREGORIAN
METHOD:PUBLISH
X-WR-CALNAME:Tai Initiative
X-ORIGINAL-URL:http://taiinitiative.org
X-WR-CALDESC:Events for Tai Initiative
BEGIN:VTIMEZONE
TZID:America/Los_Angeles
BEGIN:DAYLIGHT
TZOFFSETFROM:-0800
TZOFFSETTO:-0700
TZNAME:PDT
DTSTART:20180311T100000
END:DAYLIGHT
BEGIN:STANDARD
TZOFFSETFROM:-0700
TZOFFSETTO:-0800
TZNAME:PST
DTSTART:20181104T090000
END:STANDARD
END:VTIMEZONE
BEGIN:VEVENT
DTSTART;VALUE=DATE:20180512
DTEND;VALUE=DATE:20180521
DTSTAMP:20260419T145240
CREATED:20180119T170054Z
LAST-MODIFIED:20180227T010118Z
UID:4912-1526083200-1526860799@taiinitiative.org
SUMMARY:Mayors' Delegation\, May 2018
DESCRIPTION: 
URL:http://taiinitiative.org/event/2018maydelegation/
LOCATION:Green Development Foundation\, Shenzhen\, Guangdong\, China
ORGANIZER;CN="The%20Tai%20Initiative":MAILTO:carson@taiinitiative.org
END:VEVENT
END:VCALENDAR