BEGIN:VCALENDAR
VERSION:2.0
PRODID:-//Tai Initiative - ECPv5.2.1//NONSGML v1.0//EN
CALSCALE:GREGORIAN
METHOD:PUBLISH
X-WR-CALNAME:Tai Initiative
X-ORIGINAL-URL:http://taiinitiative.org
X-WR-CALDESC:Events for Tai Initiative
BEGIN:VTIMEZONE
TZID:America/Los_Angeles
BEGIN:DAYLIGHT
TZOFFSETFROM:-0800
TZOFFSETTO:-0700
TZNAME:PDT
DTSTART:20150308T100000
END:DAYLIGHT
BEGIN:STANDARD
TZOFFSETFROM:-0700
TZOFFSETTO:-0800
TZNAME:PST
DTSTART:20151101T090000
END:STANDARD
END:VTIMEZONE
BEGIN:VEVENT
DTSTART;TZID=America/Los_Angeles:20150710T083000
DTEND;TZID=America/Los_Angeles:20150710T170000
DTSTAMP:20260419T051053
CREATED:20140808T063714Z
LAST-MODIFIED:20150709T053000Z
UID:1509-1436517000-1436547600@taiinitiative.org
SUMMARY:3rd Annual Conference on U.S.-China Subnational Relations
DESCRIPTION:Expand Your Knowledge of the US-China Subnational Relationship\nJoin us this July in Washington D.C and discover your collaboration potential\n \nLocation: George Washington University Marvin Center\, Room 309 \nJuly 10th Take part in our workshops led by some of the speakers listed below\, including former governors\, industry leaders\, experts in the field\, and others in the subnational level of the US-China relationship.       Download the agenda of our speakers and workshops here \nNeed more information?  POC: Carson Tavenner  301-367-8969  carson@taiinitiative.org \nOur Speakers and Workshops\n8:50am Keynote Address: “Getting Our Cities to Work- Together”\n Governor Bob Holden – President\, Mid-West China Association and Former Missouri  Governor. Bio \n\n  \n  \n\n\n  \nEcoPartnerships Panel (2 halves\, 9:15am & 1:00pm)\n1st half: Program Overview and Introduction to Participating Organizations\n2nd half: Transitioning from Pilot Projects to Large Scale Deployment \n\nModerator: Brian Holuj – International Science & Technology Specialist\nPanelists:\nThomas Peterson – Founder\, President\, and CEO of the Center for Climate Strategies  Bio\nDr. Timothy Filley – Professor at Purdue University Department of Earth and Atmospheric Sciences  Bio.\nDr. Terry Cooke – Chairman & Founding Director at the China Partnership of Greater Philadelphia; Senior Fellow Foreign Policy Research Institute; Former Foreign Service Officer Bio. \n\nPrelude to the workshop: Watch our 25-min. broadcast with Dr. Terry Cooke on subnational actors \nEcoPartnerships is the premier initiative for sub-national organizations from the U.S. and China to demonstrate breakthrough energy\, environmental\, and climate change solutions.  Businesses\, universities\, localities and non-profits are often the best laboratories for testing new approaches\, yet transitioning promising concepts to market-viable solutions is often insurmountable.  Recognizing this opportunity\, the U.S. Department of State and China National Development and Reform Commission established the EcoPartnerships program in 2008\, and it has grown significantly over the years.  \nSession 2 will respond to audience-generated topics from the intervening networking period and address practical issues affecting the implementation of long-term American-Chinese cooperation on the environment \n  \n  \n\n\n“Introduction to SelectUSA Committee Shanghai”\n   Paul Swenson – Director of the InvestUSA Committee Shanghai\, Founder of The China Hand Consulting Co\, Ltd.  Bio. \nAt the recent SelectUSA Summit\, Paul Swenson was chosen to lead the InvestUSA Committee work in China;\nhere he will introduce for the first time in public his vision of what is possible to achieve with\nChina’s new experimentation with public-private partnerships in the coming years \n  \n\n\n“Trust Building Measures of Success: A Conversation with David Firestein & Dr. Kevin Stringer”\nDavid J. Firestein – EastWest Institute\, Vice President for the Strategic Trust-Building Initiative and Track 2 Diplomacy  Bio.\nDr. Kevin D. Stringer – Professor; Fellow\, Center for the Study of Civil-Military Operations  Bio. \n As cities become ever-more important and influential to U.S.-China citizen diplomatic efforts\, what best practices from this field should be clearly identified\, encouraged and supported? \n  \n\n  \n“Opportunities in Environment Water Technologies as China Strives for Clean Water with EPA”\nSasha Koo-oshima – Senior International Water Advisor\, Environmental Protection Agency; Co-Lead on the U.S.-China Clean Water Action Plan \nThis speech will deliver information describing how synergistic programs between the EPA and U.S. Dept. of Commerce are promoting exports in clean water technologies\n \n  \n\n\n  \n\n“China Investment Opportunities and Challenges in the Greater Washington Region”\nBill Black – President\, Greater Washington China Investment Center\nJohn McKiel – Senior International Investment Specialist\, SelectUSA (China) \nThis interactive dialogue will complement the Session 1 presentation on SelectUSA by focusing on the practical issues of how the Greater Washington regional business community is affected by local and national opportunities and challenges for Chinese investment to the U.S. \n  \n\n  \n“State-Level Export Best Practices”\nPeter Thornton – Peter Thornton\, North Carolina Department of Agriculture’s Director of International Trade\nSpeaker – Representative of the Pennsylvania Department for Community and Economic Development \nThis interactive event will provide the knowledge and experience of the two speakers as a platform from which to also share experiences of attendees \n\n\n  \n“Understanding Shenzhen: City Villages Key to Strength”\nLi Jinkui – Senior Research Fellow\, China Development Institute \nLi Jinkui will address the characteristics of Shenzhen’s urbanization and how China is preparing for an innovative future by experimenting with new concepts at the city level \n\n  \n“Improving Your Business Engagement in China”\nRalph Winnie – The Eurasian Center \nMr. Winnie will speak from his experience as the General Counsel and Director of Business Development on his recent experiences setting up American-Chinese business deals. \n  \n\n  \n\n\n  \n\n“Global Pro Bono: Helping Businesses Catalyze Growth in Emerging Markets”\nMatt Clark – Center for Citizen Diplomacy\, PYXERA Global Bio. \n In this workshop\, PYXERA Global – home of the Center for Citizen Diplomacy – will demonstrate how American corporations benefit from adding a pro bono element to their corporate activities in China \n\n\n \n  \nWith Recognition and Thanks also to our Special Delegation July 9 Dinner Speaker\n“Why Global Engagement at the State and Local Level is Important for the Future of U.S. – China Diplomatic Relations”\nReta Jo Lewis – Transatlantic Leadership Initiatives \n\nLodging\nLodging is at the One Washington Circle hotel; only a few minutes’ walk from the conference site and rooms are still available reserved for the conference.  If you stay at this hotel\, we will provide free shuttle service from (and to) your airport on Thursday night and Saturday morning!  Click here to go directly to room reservations.  You may call 800-424-9671 and reference block #1284710.  For questions\, write krichardson@modushotelsdc.com \n \nNeed more information?  POC: Carson Tavenner  301-367-8969  carson@taiinitiative.org\n  \n \nJoin the Tai Initiative to stay in the loop on further details and developments with this and other exciting programs.  Be sure to click the “3rd Annual Conference” checkbox at the bottom of the form!
URL:http://taiinitiative.org/event/2015conference/
LOCATION:The George Washington University\, 800 21st Street NW\, Washington\, 20052
END:VEVENT
END:VCALENDAR